BEGIN:VCALENDAR
VERSION:2.0
PRODID:Events Booking
BEGIN:VEVENT
UID:69e6249992684
SUMMARY:Szívecskék a Természetben 2025
DESCRIPTION:&nbsp\;\"Szívecskék a Természetben\" közösségi fotópály
 ázat - 2025
DTSTART:20250928T090000Z
DTEND:20250928T140000Z
DTSTAMP:20260420T130529Z
ORGANIZER;CN=Szivecskék a Természetben:MAILTO:szivecskekatermeszetben@xen
 zor.ro
END:VEVENT
END:VCALENDAR