BEGIN:VCALENDAR
VERSION:2.0
PRODID:Events Booking
BEGIN:VEVENT
UID:69e6397f73db0
SUMMARY:Szivecskék a Természetben 2017
DESCRIPTION:&nbsp\;\"Szívecskék a Természetben\" közösségi fotópály
 ázat - 2017
 &nbsp\;
DTSTART:20170924T070000Z
DTEND:20170924T140000Z
DTSTAMP:20260420T143439Z
ORGANIZER;CN=Szivecskék a Természetben:MAILTO:szivecskekatermeszetben@xen
 zor.ro
END:VEVENT
END:VCALENDAR