BEGIN:VCALENDAR
VERSION:2.0
PRODID:Events Booking
BEGIN:VEVENT
UID:69e6249a02d06
SUMMARY:Szivecskék a Természetben 2018
DESCRIPTION:&nbsp\;\"Szívecskék a Természetben\" közösségi fotópály
 ázat - 2018
DTSTART:20180930T090000Z
DTEND:20180930T140000Z
DTSTAMP:20260420T130530Z
ORGANIZER;CN=Szivecskék a Természetben:MAILTO:szivecskekatermeszetben@xen
 zor.ro
END:VEVENT
END:VCALENDAR