BEGIN:VCALENDAR
VERSION:2.0
PRODID:Events Booking
BEGIN:VEVENT
UID:69e62470e7d42
SUMMARY:Szivecskék a Természetben 2021
DESCRIPTION:&nbsp\;\"Szívecskék a Természetben\" közösségi fotópály
 ázat - 2021
DTSTART:20210926T090000Z
DTEND:20210926T140000Z
DTSTAMP:20260420T130448Z
ORGANIZER;CN=Szivecskék a Természetben:MAILTO:szivecskekatermeszetben@xen
 zor.ro
END:VEVENT
END:VCALENDAR