BEGIN:VCALENDAR
VERSION:2.0
PRODID:Events Booking
BEGIN:VEVENT
UID:69e62428165d4
SUMMARY:Szivecskék a Természetben 2023
DESCRIPTION:&nbsp\;\"Szívecskék a Természetben\" közösségi fotópály
 ázat - 2023
DTSTART:20230924T090000Z
DTEND:20230924T140000Z
DTSTAMP:20260420T130336Z
ORGANIZER;CN=Szivecskék a Természetben:MAILTO:szivecskekatermeszetben@xen
 zor.ro
END:VEVENT
END:VCALENDAR